BEGIN:VCALENDAR
VERSION:2.0
PRODID:-//সালমান হাবীব - ECPv6.3.5//NONSGML v1.0//EN
CALSCALE:GREGORIAN
METHOD:PUBLISH
X-ORIGINAL-URL:http://salmanhabib.me
X-WR-CALDESC:Events for সালমান হাবীব
REFRESH-INTERVAL;VALUE=DURATION:PT1H
X-Robots-Tag:noindex
X-PUBLISHED-TTL:PT1H
BEGIN:VTIMEZONE
TZID:UTC
BEGIN:STANDARD
TZOFFSETFROM:+0000
TZOFFSETTO:+0000
TZNAME:UTC
DTSTART:20230101T000000
END:STANDARD
END:VTIMEZONE
BEGIN:VEVENT
DTSTART;TZID=UTC:20230711T120000
DTEND;TZID=UTC:20230725T120000
DTSTAMP:20260422T214628
CREATED:20230722T062353Z
LAST-MODIFIED:20230722T064053Z
UID:3517-1689076800-1690286400@salmanhabib.me
SUMMARY:টাইপোগ্রাফি প্রতিযোগিতা
DESCRIPTION:আসসালামু আলাইকুম\, কেমন আছেন সবাই?\n১ লক্ষ মেম্বার পূর্তি উপলক্ষ্যে ‘কবিতায় গল্প বলা মানুষ’ গ্রুপে শুরু হতে যাচ্ছে– কবি সালমান হাবীব এর লেখা কবিতার উপর টাইপোগ্রাফি\, ফন্টগ্রাফি ও হাতের লেখা প্রতিযোগিতা। ৩টি বিভাগে প্রতিযোগিতা অনুষ্ঠিত হবে৷ #টাইপোগ্রাফি\, #ফন্টগ্রাফি #হাতেরলেখা\nবিজয়ীদের মধ্য থেকে প্রত্যেক বিভাগে ১ম\, ২য় ও ৩য়\nমোট ৯ জন পাবেন ৫০০০ টাকা সমমূল্যের পুরস্কার। \nঅংশগ্রহণের ক্ষেত্রে যে নিয়মগুলো লক্ষ্য রাখবেন– \n১. লেখাটি অবশ্যই সালমান হাবীব এর হতে হবে।\n২. টাইপোগ্রাফিতে লেখকের নাম উল্লেখ থাকতে হবে।\n৩. পোস্টে (#) হ্যাশট্যাগ উল্লেখ থাকতে হবে। \n#১লক্ষ_মেম্বার_স্পেশাল\n#টাইপোগ্রাফি_প্রতিযোগিতা\n#সালমান_হাবীব_কবিতায়_গল্প_বলা_মানুষ \n(যদি ফন্টগ্রাফি বা হাতের লেখা হয় তাহলে\nটাইপোর জায়গায় ফন্টগ্রাফি বা হাতের লেখা দিবেন) \n(একজন প্রতিযোগী একাধিক বিভাগে অংশগ্রহণ\nকরতে পারবে\, তবে সেক্ষেত্রে পোস্টের হ্যাশট্যাগে\nআলাদা আলাদা বিভাগ উল্লেখ করতে হবে।\nতেমনিভাবে একজন প্রতিযোগী একই বিভাগে\nএকাধিক পোস্ট করতে পারবে\, তবে সেক্ষেত্রে\nপোস্টের নাম্বার উল্লেখ করে দিতে হবে৷) \n৪. পোস্টটি নিজের টাইমলাইনে শেয়ার করতে হবে।\n৫. গ্রুপে ১০ জন নতুন বন্ধুকে যুক্ত করতে হবে।\n৬. কমেন্ট ও রিয়েক্টের ভিত্তিতে ২০% নাম্বার দেওয়া হবে।\nসুতরাং আপনার বন্ধুদেরকে রেটিং দিতে বলবেন।\n৭. ফলাফলের ক্ষেত্রে প্যানেলের সিদ্ধান্তকে মেনে নিতে হবে।\n৮. প্রতিযোগিতা চলবে ১১ থেকে ২৫ জুলাই পর্যন্ত। \nপুনশ্চঃ প্রতিযোগিতা চলাকালীন গ্রুপ কর্তৃপক্ষ\nযে কোনো বিষয়ে পরিবর্তনের অধিকার রাখেন। \n__এডমিন প্যানেল\nসালমান হাবীব – কবিতায় গল্প বলা মানুষ
URL:http://salmanhabib.me/event/%e0%a6%9f%e0%a6%be%e0%a6%87%e0%a6%aa%e0%a7%8b%e0%a6%97%e0%a7%8d%e0%a6%b0%e0%a6%be%e0%a6%ab%e0%a6%bf-%e0%a6%aa%e0%a7%8d%e0%a6%b0%e0%a6%a4%e0%a6%bf%e0%a6%af%e0%a7%8b%e0%a6%97%e0%a6%bf%e0%a6%a4%e0%a6%be/
CATEGORIES:প্রতিযোগিতা
ATTACH;FMTTYPE=image/png:http://salmanhabib.me/wp-content/uploads/2023/07/event-post-22.png
END:VEVENT
END:VCALENDAR